BEGIN:VCALENDAR
VERSION:2.0
PRODID:-//StreamRadar//Match Calendar//EN
CALSCALE:GREGORIAN
METHOD:PUBLISH
X-WR-CALNAME:Torns vs Räppe
X-WR-TIMEZONE:America/New_York
BEGIN:VEVENT
UID:match-5566720@streamradar.soccer
SUMMARY:Torns vs Räppe
DTSTAMP:20260422T072630Z
DTSTART;TZID=America/New_York:20260919T080000
DTEND;TZID=America/New_York:20260919T100000
DESCRIPTION:Где смотреть Torns – Räppe в турнире Шв
 еция - Дивизион 2 (Швеция). Прямая трансляц
 ия и телепрограмма.\nhttps://streamradar.soccer/ru/match/55
 66720/torns-vs-rappe/
URL;VALUE=URI:https://streamradar.soccer/ru/match/5566720/torns-vs-rappe/
STATUS:CONFIRMED
END:VEVENT
END:VCALENDAR
