BEGIN:VCALENDAR
VERSION:2.0
PRODID:-//StreamRadar//Match Calendar//EN
CALSCALE:GREGORIAN
METHOD:PUBLISH
X-WR-CALNAME:Oskarshamns AIK vs Räppe
X-WR-TIMEZONE:America/New_York
BEGIN:VEVENT
UID:match-5566714@streamradar.soccer
SUMMARY:Oskarshamns AIK vs Räppe
DTSTAMP:20260422T181556Z
DTSTART;TZID=America/New_York:20260912T080000
DTEND;TZID=America/New_York:20260912T100000
LOCATION:Arena Oskarshamn
DESCRIPTION:Где смотреть Oskarshamns AIK – Räppe в турн
 ре Швеция - Дивизион 2 (Швеция). Прямая тра
 нсляция и телепрограмма.\nhttps://streamradar.soccer/r
 u/match/5566714/oskarshamns-aik-vs-rappe/
URL;VALUE=URI:https://streamradar.soccer/ru/match/5566714/oskarshamns-aik-v
 s-rappe/
STATUS:CONFIRMED
END:VEVENT
END:VCALENDAR
