BEGIN:VCALENDAR
VERSION:2.0
PRODID:-//StreamRadar//Match Calendar//EN
CALSCALE:GREGORIAN
METHOD:PUBLISH
X-WR-CALNAME:Österlen vs IFK Trelleborg
X-WR-TIMEZONE:America/New_York
BEGIN:VEVENT
UID:match-5566710@streamradar.soccer
SUMMARY:Österlen vs IFK Trelleborg
DTSTAMP:20260422T045602Z
DTSTART;TZID=America/New_York:20260912T070000
DTEND;TZID=America/New_York:20260912T090000
DESCRIPTION:Где смотреть Österlen – IFK Trelleborg в тур
 ире Швеция - Дивизион 2 (Швеция). Прямая тр
 ансляция и телепрограмма.\nhttps://streamradar.soccer
 /ru/match/5566710/osterlen-vs-ifk-trelleborg/
URL;VALUE=URI:https://streamradar.soccer/ru/match/5566710/osterlen-vs-ifk-t
 relleborg/
STATUS:CONFIRMED
END:VEVENT
END:VCALENDAR
