BEGIN:VCALENDAR
VERSION:2.0
PRODID:-//StreamRadar//Match Calendar//EN
CALSCALE:GREGORIAN
METHOD:PUBLISH
X-WR-CALNAME:Staffanstorp United vs Karlskrona
X-WR-TIMEZONE:America/New_York
BEGIN:VEVENT
UID:match-5566706@streamradar.soccer
SUMMARY:Staffanstorp United vs Karlskrona
DTSTAMP:20260421T165400Z
DTSTART;TZID=America/New_York:20260906T070000
DTEND;TZID=America/New_York:20260906T090000
DESCRIPTION:Где смотреть Staffanstorp United – Karlskrona в 
 урнире Швеция - Дивизион 2 (Швеция). Пряма
  трансляция и телепрограмма.\nhttps://streamradar.
 soccer/ru/match/5566706/staffanstorp-united-vs-karlskrona/
URL;VALUE=URI:https://streamradar.soccer/ru/match/5566706/staffanstorp-unit
 ed-vs-karlskrona/
STATUS:CONFIRMED
END:VEVENT
END:VCALENDAR
