BEGIN:VCALENDAR
VERSION:2.0
PRODID:-//StreamRadar//Match Calendar//EN
CALSCALE:GREGORIAN
METHOD:PUBLISH
X-WR-CALNAME:Franke vs Sunnersta
X-WR-TIMEZONE:America/New_York
BEGIN:VEVENT
UID:match-5566539@streamradar.soccer
SUMMARY:Franke vs Sunnersta
DTSTAMP:20260424T161043Z
DTSTART;TZID=America/New_York:20260920T070000
DTEND;TZID=America/New_York:20260920T090000
DESCRIPTION:Где смотреть Franke – Sunnersta в турнире 
 Швеция - Дивизион 2 (Швеция). Прямая трансл
 яция и телепрограмма.\nhttps://streamradar.soccer/ru/matc
 h/5566539/franke-vs-sunnersta/
URL;VALUE=URI:https://streamradar.soccer/ru/match/5566539/franke-vs-sunners
 ta/
STATUS:CONFIRMED
END:VEVENT
END:VCALENDAR
