BEGIN:VCALENDAR
VERSION:2.0
PRODID:-//StreamRadar//Match Calendar//EN
CALSCALE:GREGORIAN
METHOD:PUBLISH
X-WR-CALNAME:Skiljebo vs Korsnäs
X-WR-TIMEZONE:America/New_York
BEGIN:VEVENT
UID:match-5566533@streamradar.soccer
SUMMARY:Skiljebo vs Korsnäs
DTSTAMP:20260422T053927Z
DTSTART;TZID=America/New_York:20260913T100000
DTEND;TZID=America/New_York:20260913T120000
DESCRIPTION:Где смотреть Skiljebo – Korsnäs в турнире
  Швеция - Дивизион 2 (Швеция). Прямая транс
 яция и телепрограмма.\nhttps://streamradar.soccer/ru/mat
 ch/5566533/skiljebo-vs-korsnas/
URL;VALUE=URI:https://streamradar.soccer/ru/match/5566533/skiljebo-vs-korsn
 as/
STATUS:CONFIRMED
END:VEVENT
END:VCALENDAR
