BEGIN:VCALENDAR
VERSION:2.0
PRODID:-//StreamRadar//Match Calendar//EN
CALSCALE:GREGORIAN
METHOD:PUBLISH
X-WR-CALNAME:Gute vs Viggbyholms IK
X-WR-TIMEZONE:America/New_York
BEGIN:VEVENT
UID:match-5566529@streamradar.soccer
SUMMARY:Gute vs Viggbyholms IK
DTSTAMP:20260422T082318Z
DTSTART;TZID=America/New_York:20260912T120000
DTEND;TZID=America/New_York:20260912T140000
DESCRIPTION:Где смотреть Gute – Viggbyholms IK в турнир
 е Швеция - Дивизион 2 (Швеция). Прямая тран
 ляция и телепрограмма.\nhttps://streamradar.soccer/ru/m
 atch/5566529/gute-vs-viggbyholms-ik/
URL;VALUE=URI:https://streamradar.soccer/ru/match/5566529/gute-vs-viggbyhol
 ms-ik/
STATUS:CONFIRMED
END:VEVENT
END:VCALENDAR
