BEGIN:VCALENDAR
VERSION:2.0
PRODID:-//StreamRadar//Match Calendar//EN
CALSCALE:GREGORIAN
METHOD:PUBLISH
X-WR-CALNAME:Kumla vs Motala
X-WR-TIMEZONE:America/New_York
BEGIN:VEVENT
UID:match-5566345@streamradar.soccer
SUMMARY:Kumla vs Motala
DTSTAMP:20260421T131006Z
DTSTART;TZID=America/New_York:20260911T130000
DTEND;TZID=America/New_York:20260911T150000
DESCRIPTION:Где смотреть Kumla – Motala в турнире Шв
 еция - Дивизион 2 (Швеция). Прямая трансляц
 ия и телепрограмма.\nhttps://streamradar.soccer/ru/match/55
 66345/kumla-vs-motala/
URL;VALUE=URI:https://streamradar.soccer/ru/match/5566345/kumla-vs-motala/
STATUS:CONFIRMED
END:VEVENT
END:VCALENDAR
