BEGIN:VCALENDAR
VERSION:2.0
PRODID:-//StreamRadar//Match Calendar//EN
CALSCALE:GREGORIAN
METHOD:PUBLISH
X-WR-CALNAME:Herrestads Aif vs KarlstAD II
X-WR-TIMEZONE:America/New_York
BEGIN:VEVENT
UID:match-5566340@streamradar.soccer
SUMMARY:Herrestads Aif vs KarlstAD II
DTSTAMP:20260422T043300Z
DTSTART;TZID=America/New_York:20260905T070000
DTEND;TZID=America/New_York:20260905T090000
DESCRIPTION:Где смотреть Herrestads Aif – KarlstAD II в ту
 нире Швеция - Дивизион 2 (Швеция). Прямая т
 рансляция и телепрограмма.\nhttps://streamradar.socc
 er/ru/match/5566340/herrestads-aif-vs-karlstad-ii/
URL;VALUE=URI:https://streamradar.soccer/ru/match/5566340/herrestads-aif-vs
 -karlstad-ii/
STATUS:CONFIRMED
END:VEVENT
END:VCALENDAR
