BEGIN:VCALENDAR
VERSION:2.0
PRODID:-//StreamRadar//Match Calendar//EN
CALSCALE:GREGORIAN
METHOD:PUBLISH
X-WR-CALNAME:New York RB II vs Huntsville City
X-WR-TIMEZONE:America/New_York
BEGIN:VEVENT
UID:match-5565978@streamradar.soccer
SUMMARY:New York RB II vs Huntsville City
DTSTAMP:20260425T192315Z
DTSTART;TZID=America/New_York:20260920T140000
DTEND;TZID=America/New_York:20260920T160000
LOCATION:MSU Soccer Park
DESCRIPTION:Где смотреть New York RB II – Huntsville City в 
 урнире MLS Next Pro. Прямая трансляция и телеп
 рограмма.\nhttps://streamradar.soccer/ru/match/5565978/new-york-rb-
 ii-vs-huntsville-city/
URL;VALUE=URI:https://streamradar.soccer/ru/match/5565978/new-york-rb-ii-vs
 -huntsville-city/
STATUS:CONFIRMED
END:VEVENT
END:VCALENDAR
