BEGIN:VCALENDAR
VERSION:2.0
PRODID:-//StreamRadar//Match Calendar//EN
CALSCALE:GREGORIAN
METHOD:PUBLISH
X-WR-CALNAME:Chattanooga vs Atlanta United II
X-WR-TIMEZONE:America/New_York
BEGIN:VEVENT
UID:match-5565962@streamradar.soccer
SUMMARY:Chattanooga vs Atlanta United II
DTSTAMP:20260421T185329Z
DTSTART;TZID=America/New_York:20260913T150000
DTEND;TZID=America/New_York:20260913T170000
LOCATION:Finley Stadium
DESCRIPTION:Где смотреть Chattanooga – Atlanta United II в т
 урнире MLS Next Pro. Прямая трансляция и телеп
 ограмма.\nhttps://streamradar.soccer/ru/match/5565962/chattanooga-v
 s-atlanta-united-ii/
URL;VALUE=URI:https://streamradar.soccer/ru/match/5565962/chattanooga-vs-at
 lanta-united-ii/
STATUS:CONFIRMED
END:VEVENT
END:VCALENDAR
