BEGIN:VCALENDAR
VERSION:2.0
PRODID:-//StreamRadar//Match Calendar//EN
CALSCALE:GREGORIAN
METHOD:PUBLISH
X-WR-CALNAME:North Texas vs Houston Dynamo FC II
X-WR-TIMEZONE:America/New_York
BEGIN:VEVENT
UID:match-5565958@streamradar.soccer
SUMMARY:North Texas vs Houston Dynamo FC II
DTSTAMP:20260422T113601Z
DTSTART;TZID=America/New_York:20260909T204500
DTEND;TZID=America/New_York:20260909T224500
LOCATION:Choctaw Stadium
DESCRIPTION:Где смотреть North Texas – Houston Dynamo FC II в
  турнире MLS Next Pro. Прямая трансляция и теле
 программа.\nhttps://streamradar.soccer/ru/match/5565958/north-texa
 s-vs-houston-dynamo-fc-ii/
URL;VALUE=URI:https://streamradar.soccer/ru/match/5565958/north-texas-vs-ho
 uston-dynamo-fc-ii/
STATUS:CONFIRMED
END:VEVENT
END:VCALENDAR
