BEGIN:VCALENDAR
VERSION:2.0
PRODID:-//StreamRadar//Match Calendar//EN
CALSCALE:GREGORIAN
METHOD:PUBLISH
X-WR-CALNAME:Sporting KC II vs St. Louis City II
X-WR-TIMEZONE:America/New_York
BEGIN:VEVENT
UID:match-5565952@streamradar.soccer
SUMMARY:Sporting KC II vs St. Louis City II
DTSTAMP:20260422T113721Z
DTSTART;TZID=America/New_York:20260905T200000
DTEND;TZID=America/New_York:20260905T220000
LOCATION:Swope Soccer Village
DESCRIPTION:Где смотреть Sporting KC II – St. Louis City II в
  турнире MLS Next Pro. Прямая трансляция и теле
 программа.\nhttps://streamradar.soccer/ru/match/5565952/sporting-k
 c-ii-vs-st-louis-city-ii/
URL;VALUE=URI:https://streamradar.soccer/ru/match/5565952/sporting-kc-ii-vs
 -st-louis-city-ii/
STATUS:CONFIRMED
END:VEVENT
END:VCALENDAR
