BEGIN:VCALENDAR
VERSION:2.0
PRODID:-//StreamRadar//Match Calendar//EN
CALSCALE:GREGORIAN
METHOD:PUBLISH
X-WR-CALNAME:Minnesota United II vs Colorado Rapids II
X-WR-TIMEZONE:America/New_York
BEGIN:VEVENT
UID:match-5565951@streamradar.soccer
SUMMARY:Minnesota United II vs Colorado Rapids II
DTSTAMP:20260422T101102Z
DTSTART;TZID=America/New_York:20260905T200000
DTEND;TZID=America/New_York:20260905T220000
LOCATION:Allianz Field
DESCRIPTION:Где смотреть Minnesota United II – Colorado Rapids
  II в турнире MLS Next Pro. Прямая трансляция и т
 елепрограмма.\nhttps://streamradar.soccer/ru/match/5565951/minn
 esota-united-ii-vs-colorado-rapids-ii/
URL;VALUE=URI:https://streamradar.soccer/ru/match/5565951/minnesota-united-
 ii-vs-colorado-rapids-ii/
STATUS:CONFIRMED
END:VEVENT
END:VCALENDAR
