BEGIN:VCALENDAR
VERSION:2.0
PRODID:-//StreamRadar//Match Calendar//EN
CALSCALE:GREGORIAN
METHOD:PUBLISH
X-WR-CALNAME:Houston Dynamo FC II vs Austin II
X-WR-TIMEZONE:America/New_York
BEGIN:VEVENT
UID:match-5565945@streamradar.soccer
SUMMARY:Houston Dynamo FC II vs Austin II
DTSTAMP:20260422T113605Z
DTSTART;TZID=America/New_York:20260904T190000
DTEND;TZID=America/New_York:20260904T210000
LOCATION:SaberCats Stadium
DESCRIPTION:Где смотреть Houston Dynamo FC II – Austin II в 
 урнире MLS Next Pro. Прямая трансляция и телеп
 рограмма.\nhttps://streamradar.soccer/ru/match/5565945/houston-dyna
 mo-fc-ii-vs-austin-ii/
URL;VALUE=URI:https://streamradar.soccer/ru/match/5565945/houston-dynamo-fc
 -ii-vs-austin-ii/
STATUS:CONFIRMED
END:VEVENT
END:VCALENDAR
