BEGIN:VCALENDAR
VERSION:2.0
PRODID:-//StreamRadar//Match Calendar//EN
CALSCALE:GREGORIAN
METHOD:PUBLISH
X-WR-CALNAME:Lions vs Brisbane City
X-WR-TIMEZONE:America/New_York
BEGIN:VEVENT
UID:match-5564959@streamradar.soccer
SUMMARY:Lions vs Brisbane City
DTSTAMP:20260422T112407Z
DTSTART;TZID=America/New_York:20260328T053000
DTEND;TZID=America/New_York:20260328T073000
LOCATION:Lions Stadium
DESCRIPTION:Где смотреть Lions – Brisbane City в турнир
 е Австралия - NPL Queensland. Прямая трансляция 
  телепрограмма.\nhttps://streamradar.soccer/ru/match/5564959/
 lions-vs-brisbane-city/
URL;VALUE=URI:https://streamradar.soccer/ru/match/5564959/lions-vs-brisbane
 -city/
STATUS:CONFIRMED
END:VEVENT
END:VCALENDAR
