BEGIN:VCALENDAR
VERSION:2.0
PRODID:-//StreamRadar//Match Calendar//EN
CALSCALE:GREGORIAN
METHOD:PUBLISH
X-WR-CALNAME:Magic United vs Gold Coast Knights
X-WR-TIMEZONE:America/New_York
BEGIN:VEVENT
UID:match-5564943@streamradar.soccer
SUMMARY:Magic United vs Gold Coast Knights
DTSTAMP:20260423T032726Z
DTSTART;TZID=America/New_York:20260308T000000
DTEND;TZID=America/New_York:20260308T030000
LOCATION:Magic F.C. Park
DESCRIPTION:Где смотреть Magic United – Gold Coast Knights в 
 турнире Австралия - NPL Queensland. Прямая транс
 ляция и телепрограмма.\nhttps://streamradar.soccer/ru/ma
 tch/5564943/magic-united-vs-gold-coast-knights/
URL;VALUE=URI:https://streamradar.soccer/ru/match/5564943/magic-united-vs-g
 old-coast-knights/
STATUS:CONFIRMED
END:VEVENT
END:VCALENDAR
