BEGIN:VCALENDAR
VERSION:2.0
PRODID:-//StreamRadar//Match Calendar//EN
CALSCALE:GREGORIAN
METHOD:PUBLISH
X-WR-CALNAME:Brisbane Roar II vs Gold Coast United
X-WR-TIMEZONE:America/New_York
BEGIN:VEVENT
UID:match-5564942@streamradar.soccer
SUMMARY:Brisbane Roar II vs Gold Coast United
DTSTAMP:20260423T033418Z
DTSTART;TZID=America/New_York:20260307T230000
DTEND;TZID=America/New_York:20260308T010000
LOCATION:AJ Kelly Park
DESCRIPTION:Где смотреть Brisbane Roar II – Gold Coast United 
 в турнире Австралия - NPL Queensland. Прямая тра
 сляция и телепрограмма.\nhttps://streamradar.soccer/ru
 /match/5564942/brisbane-roar-ii-vs-gold-coast-united/
URL;VALUE=URI:https://streamradar.soccer/ru/match/5564942/brisbane-roar-ii-
 vs-gold-coast-united/
STATUS:CONFIRMED
END:VEVENT
END:VCALENDAR
