BEGIN:VCALENDAR
VERSION:2.0
PRODID:-//StreamRadar//Match Calendar//EN
CALSCALE:GREGORIAN
METHOD:PUBLISH
X-WR-CALNAME:Lions vs Gold Coast Knights
X-WR-TIMEZONE:America/New_York
BEGIN:VEVENT
UID:match-5564932@streamradar.soccer
SUMMARY:Lions vs Gold Coast Knights
DTSTAMP:20260423T110804Z
DTSTART;TZID=America/New_York:20260227T043000
DTEND;TZID=America/New_York:20260227T063000
LOCATION:Lions Stadium
DESCRIPTION:Где смотреть Lions – Gold Coast Knights в тур
 ире Австралия - NPL Queensland. Прямая трансляц
 я и телепрограмма.\nhttps://streamradar.soccer/ru/match/556
 4932/lions-vs-gold-coast-knights/
URL;VALUE=URI:https://streamradar.soccer/ru/match/5564932/lions-vs-gold-coa
 st-knights/
STATUS:CONFIRMED
END:VEVENT
END:VCALENDAR
