BEGIN:VCALENDAR
VERSION:2.0
PRODID:-//StreamRadar//Match Calendar//EN
CALSCALE:GREGORIAN
METHOD:PUBLISH
X-WR-CALNAME:Wollongong Wolves vs St George Saints
X-WR-TIMEZONE:America/New_York
BEGIN:VEVENT
UID:match-5564813@streamradar.soccer
SUMMARY:Wollongong Wolves vs St George Saints
DTSTAMP:20260421T102131Z
DTSTART;TZID=America/New_York:20260524T010000
DTEND;TZID=America/New_York:20260524T030000
LOCATION:WIN Stadium
DESCRIPTION:Где смотреть Wollongong Wolves – St George Saints 
 в турнире Австралия - NPL NSW. Прямая трансля
 ция и телепрограмма.\nhttps://streamradar.soccer/ru/match/
 5564813/wollongong-wolves-vs-st-george-saints/
URL;VALUE=URI:https://streamradar.soccer/ru/match/5564813/wollongong-wolves
 -vs-st-george-saints/
STATUS:CONFIRMED
END:VEVENT
END:VCALENDAR
