BEGIN:VCALENDAR
VERSION:2.0
PRODID:-//StreamRadar//Match Calendar//EN
CALSCALE:GREGORIAN
METHOD:PUBLISH
X-WR-CALNAME:Văn Hiến vs Sanna Khanh Hoa
X-WR-TIMEZONE:America/New_York
BEGIN:VEVENT
UID:match-5563373@streamradar.soccer
SUMMARY:Văn Hiến vs Sanna Khanh Hoa
DTSTAMP:20260422T194455Z
DTSTART;TZID=America/New_York:20260606T050000
DTEND;TZID=America/New_York:20260606T070000
DESCRIPTION:Где смотреть Văn Hiến – Sanna Khanh Hoa в ту
 рнире Вьетнам - V.League 2. Прямая трансляция 
  телепрограмма.\nhttps://streamradar.soccer/ru/match/5563373/
 van-hien-vs-sanna-khanh-hoa/
URL;VALUE=URI:https://streamradar.soccer/ru/match/5563373/van-hien-vs-sanna
 -khanh-hoa/
STATUS:CONFIRMED
END:VEVENT
END:VCALENDAR
