BEGIN:VCALENDAR
VERSION:2.0
PRODID:-//StreamRadar//Match Calendar//EN
CALSCALE:GREGORIAN
METHOD:PUBLISH
X-WR-CALNAME:Jeonnam Dragons vs Suwon FC
X-WR-TIMEZONE:America/New_York
BEGIN:VEVENT
UID:match-5563239@streamradar.soccer
SUMMARY:Jeonnam Dragons vs Suwon FC
DTSTAMP:20260422T043350Z
DTSTART;TZID=America/New_York:20260919T033000
DTEND;TZID=America/New_York:20260919T053000
LOCATION:Gwangyang Football Stadium
DESCRIPTION:Где смотреть Чоннам Дрэгонс – Сув
 н Сити в турнире Южная Корея - K League 2. Прям
 ая трансляция и телепрограмма.\nhttps://streamrad
 ar.soccer/ru/match/5563239/jeonnam-dragons-vs-suwon-fc/
URL;VALUE=URI:https://streamradar.soccer/ru/match/5563239/jeonnam-dragons-v
 s-suwon-fc/
STATUS:CONFIRMED
END:VEVENT
END:VCALENDAR
