BEGIN:VCALENDAR
VERSION:2.0
PRODID:-//StreamRadar//Match Calendar//EN
CALSCALE:GREGORIAN
METHOD:PUBLISH
X-WR-CALNAME:Suwon FC vs Cheonan City
X-WR-TIMEZONE:America/New_York
BEGIN:VEVENT
UID:match-5563237@streamradar.soccer
SUMMARY:Suwon FC vs Cheonan City
DTSTAMP:20260422T053301Z
DTSTART;TZID=America/New_York:20260913T060000
DTEND;TZID=America/New_York:20260913T080000
LOCATION:Suwon Sports Complex
DESCRIPTION:Где смотреть Сувон Сити – Cheonan City в
  турнире Южная Корея - K League 2. Прямая транс
 ляция и телепрограмма.\nhttps://streamradar.soccer/ru/ma
 tch/5563237/suwon-fc-vs-cheonan-city/
URL;VALUE=URI:https://streamradar.soccer/ru/match/5563237/suwon-fc-vs-cheon
 an-city/
STATUS:CONFIRMED
END:VEVENT
END:VCALENDAR
