BEGIN:VCALENDAR
VERSION:2.0
PRODID:-//StreamRadar//Match Calendar//EN
CALSCALE:GREGORIAN
METHOD:PUBLISH
X-WR-CALNAME:Yongin City vs Suwon FC
X-WR-TIMEZONE:America/New_York
BEGIN:VEVENT
UID:match-5563227@streamradar.soccer
SUMMARY:Yongin City vs Suwon FC
DTSTAMP:20260422T054738Z
DTSTART;TZID=America/New_York:20260905T060000
DTEND;TZID=America/New_York:20260905T080000
DESCRIPTION:Где смотреть Yongin City – Сувон Сити в 
 турнире Южная Корея - K League 2. Прямая транс
 яция и телепрограмма.\nhttps://streamradar.soccer/ru/mat
 ch/5563227/yongin-city-vs-suwon-fc/
URL;VALUE=URI:https://streamradar.soccer/ru/match/5563227/yongin-city-vs-su
 won-fc/
STATUS:CONFIRMED
END:VEVENT
END:VCALENDAR
