BEGIN:VCALENDAR
VERSION:2.0
PRODID:-//StreamRadar//Match Calendar//EN
CALSCALE:GREGORIAN
METHOD:PUBLISH
X-WR-CALNAME:Celaya vs Inter Playa del Carmen
X-WR-TIMEZONE:America/New_York
BEGIN:VEVENT
UID:match-5562806@streamradar.soccer
SUMMARY:Celaya vs Inter Playa del Carmen
DTSTAMP:20260422T143426Z
DTSTART;TZID=America/New_York:20260321T210000
DTEND;TZID=America/New_York:20260321T230000
LOCATION:Estadio Miguel Alemán Valdés (Celaya)
DESCRIPTION:Где смотреть Селайя – Inter Playa Del Carmen
  в турнире Мексика - Liga MX. Прямая трансляц
 я и телепрограмма.\nhttps://streamradar.soccer/ru/match/556
 2806/celaya-vs-inter-playa-del-carmen/
URL;VALUE=URI:https://streamradar.soccer/ru/match/5562806/celaya-vs-inter-p
 laya-del-carmen/
STATUS:CONFIRMED
END:VEVENT
END:VCALENDAR
