BEGIN:VCALENDAR
VERSION:2.0
PRODID:-//StreamRadar//Match Calendar//EN
CALSCALE:GREGORIAN
METHOD:PUBLISH
X-WR-CALNAME:Hà Nội FC vs Hồ Chí Minh
X-WR-TIMEZONE:America/New_York
BEGIN:VEVENT
UID:match-5562426@streamradar.soccer
SUMMARY:Hà Nội FC vs Hồ Chí Minh
DTSTAMP:20260421T114531Z
DTSTART;TZID=America/New_York:20260607T070000
DTEND;TZID=America/New_York:20260607T090000
LOCATION:Hang Day Stadium
DESCRIPTION:Где смотреть ТТ Ханой – Hồ Chí Minh в 
 урнире Вьетнам - V.League 1. Прямая трансляци
  и телепрограмма.\nhttps://streamradar.soccer/ru/match/55624
 26/ha-n-i-fc-vs-h-chi-minh/
URL;VALUE=URI:https://streamradar.soccer/ru/match/5562426/ha-n-i-fc-vs-h-ch
 i-minh/
STATUS:CONFIRMED
END:VEVENT
END:VCALENDAR
