BEGIN:VCALENDAR
VERSION:2.0
PRODID:-//StreamRadar//Match Calendar//EN
CALSCALE:GREGORIAN
METHOD:PUBLISH
X-WR-CALNAME:Unión San Felipe vs San Luis
X-WR-TIMEZONE:America/New_York
BEGIN:VEVENT
UID:match-5562316@streamradar.soccer
SUMMARY:Unión San Felipe vs San Luis
DTSTAMP:20260421T133516Z
DTSTART;TZID=America/New_York:20260906T000000
DTEND;TZID=America/New_York:20260906T020000
LOCATION:Estadio Municipal de San Felipe
DESCRIPTION:Где смотреть Унион Сан-Фелипе – Са
 н-Луис в турнире Чили - Примера Б Чили. Пря
 мая трансляция и телепрограмма.\nhttps://streamr
 adar.soccer/ru/match/5562316/union-san-felipe-vs-san-luis/
URL;VALUE=URI:https://streamradar.soccer/ru/match/5562316/union-san-felipe-
 vs-san-luis/
STATUS:CONFIRMED
END:VEVENT
END:VCALENDAR
