BEGIN:VCALENDAR
VERSION:2.0
PRODID:-//StreamRadar//Match Calendar//EN
CALSCALE:GREGORIAN
METHOD:PUBLISH
X-WR-CALNAME:Deportes Iquique vs Deportes Santa Cruz
X-WR-TIMEZONE:America/New_York
BEGIN:VEVENT
UID:match-5562312@streamradar.soccer
SUMMARY:Deportes Iquique vs Deportes Santa Cruz
DTSTAMP:20260421T114525Z
DTSTART;TZID=America/New_York:20260906T000000
DTEND;TZID=America/New_York:20260906T020000
LOCATION:Estadio Tierra de Campeones
DESCRIPTION:Где смотреть Мунисипаль Икике – Dep
 ortes Santa Cruz в турнире Чили - Примера Б Чили. 
 рямая трансляция и телепрограмма.\nhttps://st
 reamradar.soccer/ru/match/5562312/deportes-iquique-vs-deportes-santa-cruz/
URL;VALUE=URI:https://streamradar.soccer/ru/match/5562312/deportes-iquique-
 vs-deportes-santa-cruz/
STATUS:CONFIRMED
END:VEVENT
END:VCALENDAR
