BEGIN:VCALENDAR
VERSION:2.0
PRODID:-//StreamRadar//Match Calendar//EN
CALSCALE:GREGORIAN
METHOD:PUBLISH
X-WR-CALNAME:Riga vs BFC Daugavpils
X-WR-TIMEZONE:America/New_York
BEGIN:VEVENT
UID:match-5561932@streamradar.soccer
SUMMARY:Riga vs BFC Daugavpils
DTSTAMP:20260421T172457Z
DTSTART;TZID=America/New_York:20260906T100000
DTEND;TZID=America/New_York:20260906T120000
LOCATION:Skonto stadions
DESCRIPTION:Где смотреть Riga – Даугава Даугавп
 лс 2 в турнире Латвия - Высшая лига Латвии
 . Прямая трансляция и телепрограмма.\nhttps:/
 /streamradar.soccer/ru/match/5561932/riga-vs-bfc-daugavpils/
URL;VALUE=URI:https://streamradar.soccer/ru/match/5561932/riga-vs-bfc-dauga
 vpils/
STATUS:CONFIRMED
END:VEVENT
END:VCALENDAR
