BEGIN:VCALENDAR
VERSION:2.0
PRODID:-//StreamRadar//Match Calendar//EN
CALSCALE:GREGORIAN
METHOD:PUBLISH
X-WR-CALNAME:Kuressaare vs Tammeka
X-WR-TIMEZONE:America/New_York
BEGIN:VEVENT
UID:match-5561674@streamradar.soccer
SUMMARY:Kuressaare vs Tammeka
DTSTAMP:20260421T152158Z
DTSTART;TZID=America/New_York:20260913T100000
DTEND;TZID=America/New_York:20260913T120000
LOCATION:Kuressaare Linnastaadion
DESCRIPTION:Где смотреть Kuressaare – Таммека в тур
 нире Эстония - Мейстриллига. Прямая транс
 ляция и телепрограмма.\nhttps://streamradar.soccer/ru/ma
 tch/5561674/kuressaare-vs-tammeka/
URL;VALUE=URI:https://streamradar.soccer/ru/match/5561674/kuressaare-vs-tam
 meka/
STATUS:CONFIRMED
END:VEVENT
END:VCALENDAR
