BEGIN:VCALENDAR
VERSION:2.0
PRODID:-//StreamRadar//Match Calendar//EN
CALSCALE:GREGORIAN
METHOD:PUBLISH
X-WR-CALNAME:Paide vs Laagri
X-WR-TIMEZONE:America/New_York
BEGIN:VEVENT
UID:match-5561673@streamradar.soccer
SUMMARY:Paide vs Laagri
DTSTAMP:20260422T052856Z
DTSTART;TZID=America/New_York:20260913T073000
DTEND;TZID=America/New_York:20260913T093000
LOCATION:Paide linnastaadion
DESCRIPTION:Где смотреть Пайде – Laagri в турнире
  Эстония - Мейстриллига. Прямая трансляци
 я и телепрограмма.\nhttps://streamradar.soccer/ru/match/5561
 673/paide-vs-laagri/
URL;VALUE=URI:https://streamradar.soccer/ru/match/5561673/paide-vs-laagri/
STATUS:CONFIRMED
END:VEVENT
END:VCALENDAR
