BEGIN:VCALENDAR
VERSION:2.0
PRODID:-//StreamRadar//Match Calendar//EN
CALSCALE:GREGORIAN
METHOD:PUBLISH
X-WR-CALNAME:Levadia vs Kuressaare
X-WR-TIMEZONE:America/New_York
BEGIN:VEVENT
UID:match-5561667@streamradar.soccer
SUMMARY:Levadia vs Kuressaare
DTSTAMP:20260421T135913Z
DTSTART;TZID=America/New_York:20260909T120000
DTEND;TZID=America/New_York:20260909T140000
LOCATION:A. Le Coq Arena
DESCRIPTION:Где смотреть Левадия – Kuressaare в тур
 нире Эстония - Мейстриллига. Прямая транс
 ляция и телепрограмма.\nhttps://streamradar.soccer/ru/ma
 tch/5561667/levadia-vs-kuressaare/
URL;VALUE=URI:https://streamradar.soccer/ru/match/5561667/levadia-vs-kuress
 aare/
STATUS:CONFIRMED
END:VEVENT
END:VCALENDAR
