BEGIN:VCALENDAR
VERSION:2.0
PRODID:-//StreamRadar//Match Calendar//EN
CALSCALE:GREGORIAN
METHOD:PUBLISH
X-WR-CALNAME:Navbahor vs Dinamo Samarqand
X-WR-TIMEZONE:America/New_York
BEGIN:VEVENT
UID:match-5561480@streamradar.soccer
SUMMARY:Navbahor vs Dinamo Samarqand
DTSTAMP:20260421T211044Z
DTSTART;TZID=America/New_York:20260918T110000
DTEND;TZID=America/New_York:20260918T130000
LOCATION:Markaziy Stadium
DESCRIPTION:Где смотреть Навбахор – Dinamo Samarqand 
  турнире Суперлига Узбекистана. Прямая т
 рансляция и телепрограмма.\nhttps://streamradar.socc
 er/ru/match/5561480/navbahor-vs-dinamo-samarqand/
URL;VALUE=URI:https://streamradar.soccer/ru/match/5561480/navbahor-vs-dinam
 o-samarqand/
STATUS:CONFIRMED
END:VEVENT
END:VCALENDAR
