BEGIN:VCALENDAR
VERSION:2.0
PRODID:-//StreamRadar//Match Calendar//EN
CALSCALE:GREGORIAN
METHOD:PUBLISH
X-WR-CALNAME:Bunyodkor vs Surkhon
X-WR-TIMEZONE:America/New_York
BEGIN:VEVENT
UID:match-5561460@streamradar.soccer
SUMMARY:Bunyodkor vs Surkhon
DTSTAMP:20260421T165050Z
DTSTART;TZID=America/New_York:20260903T110000
DTEND;TZID=America/New_York:20260903T130000
LOCATION:Milliy Stadium
DESCRIPTION:Где смотреть Бунёдкор – Surkhon в тур
 ире Суперлига Узбекистана. Прямая транс
 яция и телепрограмма.\nhttps://streamradar.soccer/ru/mat
 ch/5561460/bunyodkor-vs-surkhon/
URL;VALUE=URI:https://streamradar.soccer/ru/match/5561460/bunyodkor-vs-surk
 hon/
STATUS:CONFIRMED
END:VEVENT
END:VCALENDAR
