BEGIN:VCALENDAR
VERSION:2.0
PRODID:-//StreamRadar//Match Calendar//EN
CALSCALE:GREGORIAN
METHOD:PUBLISH
X-WR-CALNAME:Villa Dálmine vs Ituzaingó
X-WR-TIMEZONE:America/New_York
BEGIN:VEVENT
UID:match-5560765@streamradar.soccer
SUMMARY:Villa Dálmine vs Ituzaingó
DTSTAMP:20260422T053935Z
DTSTART;TZID=America/New_York:20260919T160000
DTEND;TZID=America/New_York:20260919T180000
LOCATION:Estadio El Coliseo de Mitre y Puccini
DESCRIPTION:Где смотреть Вилья Дальмине – Иту
 аинго в турнире Аргентина - Primera B Metropolitana.
  Прямая трансляция и телепрограмма.\nhttps://
 streamradar.soccer/ru/match/5560765/villa-dalmine-vs-ituzaingo/
URL;VALUE=URI:https://streamradar.soccer/ru/match/5560765/villa-dalmine-vs-
 ituzaingo/
STATUS:CONFIRMED
END:VEVENT
END:VCALENDAR
