BEGIN:VCALENDAR
VERSION:2.0
PRODID:-//StreamRadar//Match Calendar//EN
CALSCALE:GREGORIAN
METHOD:PUBLISH
X-WR-CALNAME:Sportivo Italiano vs Brown de Adrogué
X-WR-TIMEZONE:America/New_York
BEGIN:VEVENT
UID:match-5560763@streamradar.soccer
SUMMARY:Sportivo Italiano vs Brown de Adrogué
DTSTAMP:20260422T031720Z
DTSTART;TZID=America/New_York:20260919T160000
DTEND;TZID=America/New_York:20260919T180000
LOCATION:Republica de Italia Stadium
DESCRIPTION:Где смотреть Спортиво Итальяно – 
 раун де Адроге в турнире Аргентина - Primera 
 B Metropolitana. Прямая трансляция и телепрогра
 ма.\nhttps://streamradar.soccer/ru/match/5560763/sportivo-italiano-vs-br
 own-de-adrogue/
URL;VALUE=URI:https://streamradar.soccer/ru/match/5560763/sportivo-italiano
 -vs-brown-de-adrogue/
STATUS:CONFIRMED
END:VEVENT
END:VCALENDAR
