BEGIN:VCALENDAR
VERSION:2.0
PRODID:-//StreamRadar//Match Calendar//EN
CALSCALE:GREGORIAN
METHOD:PUBLISH
X-WR-CALNAME:Flandria vs Deportivo Camioneros
X-WR-TIMEZONE:America/New_York
BEGIN:VEVENT
UID:match-5560752@streamradar.soccer
SUMMARY:Flandria vs Deportivo Camioneros
DTSTAMP:20260421T063544Z
DTSTART;TZID=America/New_York:20260912T160000
DTEND;TZID=America/New_York:20260912T180000
LOCATION:Estadio Carlos V
DESCRIPTION:Где смотреть Фландрия – Deportivo Camioner
 os в турнире Аргентина - Primera B Metropolitana. Прям
 ая трансляция и телепрограмма.\nhttps://streamrad
 ar.soccer/ru/match/5560752/flandria-vs-deportivo-camioneros/
URL;VALUE=URI:https://streamradar.soccer/ru/match/5560752/flandria-vs-depor
 tivo-camioneros/
STATUS:CONFIRMED
END:VEVENT
END:VCALENDAR
