BEGIN:VCALENDAR
VERSION:2.0
PRODID:-//StreamRadar//Match Calendar//EN
CALSCALE:GREGORIAN
METHOD:PUBLISH
X-WR-CALNAME:Yunnan Yukun vs Liaoning Tieren
X-WR-TIMEZONE:America/New_York
BEGIN:VEVENT
UID:match-5560399@streamradar.soccer
SUMMARY:Yunnan Yukun vs Liaoning Tieren
DTSTAMP:20260421T142134Z
DTSTART;TZID=America/New_York:20260906T073500
DTEND;TZID=America/New_York:20260906T093500
LOCATION:Yuxi Plateau Sports Center Stadium
DESCRIPTION:Где смотреть Yunnan Yukun – Liaoning Tieren в т
 рнире Китай - Китайская Суперлига. Пряма
  трансляция и телепрограмма.\nhttps://streamradar.
 soccer/ru/match/5560399/yunnan-yukun-vs-liaoning-tieren/
URL;VALUE=URI:https://streamradar.soccer/ru/match/5560399/yunnan-yukun-vs-l
 iaoning-tieren/
STATUS:CONFIRMED
END:VEVENT
END:VCALENDAR
