BEGIN:VCALENDAR
VERSION:2.0
PRODID:-//StreamRadar//Match Calendar//EN
CALSCALE:GREGORIAN
METHOD:PUBLISH
X-WR-CALNAME:Henan Songshan Longmen vs Qingdao West Coast
X-WR-TIMEZONE:America/New_York
BEGIN:VEVENT
UID:match-5560366@streamradar.soccer
SUMMARY:Henan Songshan Longmen vs Qingdao West Coast
DTSTAMP:20260423T155709Z
DTSTART;TZID=America/New_York:20260809T070000
DTEND;TZID=America/New_York:20260809T090000
LOCATION:Zhengzhou Hanghai Stadium
DESCRIPTION:Где смотреть Хэнань Цзянье – Qingdao W
 est Coast в турнире Китай - Китайская Суперли
 а. Прямая трансляция и телепрограмма.\nhttp
 s://streamradar.soccer/ru/match/5560366/henan-songshan-longmen-vs-qingdao-w
 est-coast/
URL;VALUE=URI:https://streamradar.soccer/ru/match/5560366/henan-songshan-lo
 ngmen-vs-qingdao-west-coast/
STATUS:CONFIRMED
END:VEVENT
END:VCALENDAR
