BEGIN:VCALENDAR
VERSION:2.0
PRODID:-//StreamRadar//Match Calendar//EN
CALSCALE:GREGORIAN
METHOD:PUBLISH
X-WR-CALNAME:Liaoning Tieren vs Shanghai Shenhua
X-WR-TIMEZONE:America/New_York
BEGIN:VEVENT
UID:match-5560360@streamradar.soccer
SUMMARY:Liaoning Tieren vs Shanghai Shenhua
DTSTAMP:20260421T152215Z
DTSTART;TZID=America/New_York:20260802T073500
DTEND;TZID=America/New_York:20260802T093500
LOCATION:Olympic Sports Centre Stadium
DESCRIPTION:Где смотреть Liaoning Tieren – Шанхай Шен
 ьхуа в турнире Китай - Китайская Суперлиг
 а. Прямая трансляция и телепрограмма.\nhttps
 ://streamradar.soccer/ru/match/5560360/liaoning-tieren-vs-shanghai-shenhua/
URL;VALUE=URI:https://streamradar.soccer/ru/match/5560360/liaoning-tieren-v
 s-shanghai-shenhua/
STATUS:CONFIRMED
END:VEVENT
END:VCALENDAR
