BEGIN:VCALENDAR
VERSION:2.0
PRODID:-//StreamRadar//Match Calendar//EN
CALSCALE:GREGORIAN
METHOD:PUBLISH
X-WR-CALNAME:Chengdu Rongcheng vs Beijing Guoan
X-WR-TIMEZONE:America/New_York
BEGIN:VEVENT
UID:match-5560350@streamradar.soccer
SUMMARY:Chengdu Rongcheng vs Beijing Guoan
DTSTAMP:20260421T201908Z
DTSTART;TZID=America/New_York:20260726T073500
DTEND;TZID=America/New_York:20260726T093500
LOCATION:Chengdu Phoenix Hill Sports Park
DESCRIPTION:Где смотреть Chengdu Rongcheng – Бэйцзин Г
 оань в турнире Китай - Китайская Суперлиг
 а. Прямая трансляция и телепрограмма.\nhttps
 ://streamradar.soccer/ru/match/5560350/chengdu-rongcheng-vs-beijing-guoan/
URL;VALUE=URI:https://streamradar.soccer/ru/match/5560350/chengdu-rongcheng
 -vs-beijing-guoan/
STATUS:CONFIRMED
END:VEVENT
END:VCALENDAR
