BEGIN:VCALENDAR
VERSION:2.0
PRODID:-//StreamRadar//Match Calendar//EN
CALSCALE:GREGORIAN
METHOD:PUBLISH
X-WR-CALNAME:Qingdao West Coast vs Beijing Guoan
X-WR-TIMEZONE:America/New_York
BEGIN:VEVENT
UID:match-5560292@streamradar.soccer
SUMMARY:Qingdao West Coast vs Beijing Guoan
DTSTAMP:20260420T120942Z
DTSTART;TZID=America/New_York:20260519T080000
DTEND;TZID=America/New_York:20260519T100000
LOCATION:Qingdao Guzhenkou University City Sports Center
DESCRIPTION:Где смотреть Qingdao West Coast – Бэйцзин 
 оань в турнире Китай - Китайская Суперли
 а. Прямая трансляция и телепрограмма.\nhttp
 s://streamradar.soccer/ru/match/5560292/qingdao-west-coast-vs-beijing-guoan
 /
URL;VALUE=URI:https://streamradar.soccer/ru/match/5560292/qingdao-west-coas
 t-vs-beijing-guoan/
STATUS:CONFIRMED
END:VEVENT
END:VCALENDAR
