BEGIN:VCALENDAR
VERSION:2.0
PRODID:-//StreamRadar//Match Calendar//EN
CALSCALE:GREGORIAN
METHOD:PUBLISH
X-WR-CALNAME:Patronato vs San Martín San Juan
X-WR-TIMEZONE:America/New_York
BEGIN:VEVENT
UID:match-5560123@streamradar.soccer
SUMMARY:Patronato vs San Martín San Juan
DTSTAMP:20260422T063213Z
DTSTART;TZID=America/New_York:20260919T160000
DTEND;TZID=America/New_York:20260919T180000
DESCRIPTION:Где смотреть Патронато Парана – С
 н-Мартин Сан-Хуан в турнире Аргентина - П
 имера Насьональ. Прямая трансляция и тел
 епрограмма.\nhttps://streamradar.soccer/ru/match/5560123/patronat
 o-vs-san-martin-san-juan/
URL;VALUE=URI:https://streamradar.soccer/ru/match/5560123/patronato-vs-san-
 martin-san-juan/
STATUS:CONFIRMED
END:VEVENT
END:VCALENDAR
