BEGIN:VCALENDAR
VERSION:2.0
PRODID:-//StreamRadar//Match Calendar//EN
CALSCALE:GREGORIAN
METHOD:PUBLISH
X-WR-CALNAME:Gimnasia Jujuy vs San Martín Tucumán
X-WR-TIMEZONE:America/New_York
BEGIN:VEVENT
UID:match-5560119@streamradar.soccer
SUMMARY:Gimnasia Jujuy vs San Martín Tucumán
DTSTAMP:20260422T031717Z
DTSTART;TZID=America/New_York:20260919T160000
DTEND;TZID=America/New_York:20260919T180000
LOCATION:Estadio 23 de Agosto
DESCRIPTION:Где смотреть Химнасия Хухуй – Сан-
 Мартин Тукуман в турнире Аргентина - Прим
 ера Насьональ. Прямая трансляция и телеп
 ограмма.\nhttps://streamradar.soccer/ru/match/5560119/gimnasia-juju
 y-vs-san-martin-tucuman/
URL;VALUE=URI:https://streamradar.soccer/ru/match/5560119/gimnasia-jujuy-vs
 -san-martin-tucuman/
STATUS:CONFIRMED
END:VEVENT
END:VCALENDAR
