BEGIN:VCALENDAR
VERSION:2.0
PRODID:-//StreamRadar//Match Calendar//EN
CALSCALE:GREGORIAN
METHOD:PUBLISH
X-WR-CALNAME:Deportivo Maipú vs Temperley
X-WR-TIMEZONE:America/New_York
BEGIN:VEVENT
UID:match-5560118@streamradar.soccer
SUMMARY:Deportivo Maipú vs Temperley
DTSTAMP:20260422T065723Z
DTSTART;TZID=America/New_York:20260919T160000
DTEND;TZID=America/New_York:20260919T180000
LOCATION:Stadion Omar Higinio Sperdutti
DESCRIPTION:Где смотреть Депортиво Маипу – Те
 перлей в турнире Аргентина - Примера Нас
 ональ. Прямая трансляция и телепрограмм
 .\nhttps://streamradar.soccer/ru/match/5560118/deportivo-maipu-vs-temperle
 y/
URL;VALUE=URI:https://streamradar.soccer/ru/match/5560118/deportivo-maipu-v
 s-temperley/
STATUS:CONFIRMED
END:VEVENT
END:VCALENDAR
