BEGIN:VCALENDAR
VERSION:2.0
PRODID:-//StreamRadar//Match Calendar//EN
CALSCALE:GREGORIAN
METHOD:PUBLISH
X-WR-CALNAME:Colegiales vs Chacarita Juniors
X-WR-TIMEZONE:America/New_York
BEGIN:VEVENT
UID:match-5560115@streamradar.soccer
SUMMARY:Colegiales vs Chacarita Juniors
DTSTAMP:20260422T063207Z
DTSTART;TZID=America/New_York:20260919T160000
DTEND;TZID=America/New_York:20260919T180000
LOCATION:Estadio de Colegiales
DESCRIPTION:Где смотреть Колехиалес – Чакарит
 а Хуниорс в турнире Аргентина - Примера Н
 сьональ. Прямая трансляция и телепрогра
 ма.\nhttps://streamradar.soccer/ru/match/5560115/colegiales-vs-chacarita
 -juniors/
URL;VALUE=URI:https://streamradar.soccer/ru/match/5560115/colegiales-vs-cha
 carita-juniors/
STATUS:CONFIRMED
END:VEVENT
END:VCALENDAR
