BEGIN:VCALENDAR
VERSION:2.0
PRODID:-//StreamRadar//Match Calendar//EN
CALSCALE:GREGORIAN
METHOD:PUBLISH
X-WR-CALNAME:Ferro Carril Oeste vs Ciudad de Bolívar
X-WR-TIMEZONE:America/New_York
BEGIN:VEVENT
UID:match-5560101@streamradar.soccer
SUMMARY:Ferro Carril Oeste vs Ciudad de Bolívar
DTSTAMP:20260421T120506Z
DTSTART;TZID=America/New_York:20260912T160000
DTEND;TZID=America/New_York:20260912T180000
LOCATION:Estadio Arquitecto Ricardo Etcheverry
DESCRIPTION:Где смотреть Феррокаррил Оэсте – C
 iudad de Bolívar в турнире Аргентина - Примера Н
 сьональ. Прямая трансляция и телепрогра
 ма.\nhttps://streamradar.soccer/ru/match/5560101/ferro-carril-oeste-vs-c
 iudad-de-bolivar/
URL;VALUE=URI:https://streamradar.soccer/ru/match/5560101/ferro-carril-oest
 e-vs-ciudad-de-bolivar/
STATUS:CONFIRMED
END:VEVENT
END:VCALENDAR
