BEGIN:VCALENDAR
VERSION:2.0
PRODID:-//StreamRadar//Match Calendar//EN
CALSCALE:GREGORIAN
METHOD:PUBLISH
X-WR-CALNAME:Chaco For Ever vs Almirante Brown
X-WR-TIMEZONE:America/New_York
BEGIN:VEVENT
UID:match-5560095@streamradar.soccer
SUMMARY:Chaco For Ever vs Almirante Brown
DTSTAMP:20260421T120505Z
DTSTART;TZID=America/New_York:20260912T160000
DTEND;TZID=America/New_York:20260912T180000
LOCATION:Estadio Juan Alberto Garcia
DESCRIPTION:Где смотреть Чако Фор Эвер – Альми
 ранте Браун в турнире Аргентина - Примера
  Насьональ. Прямая трансляция и телепрог
 амма.\nhttps://streamradar.soccer/ru/match/5560095/chaco-for-ever-vs-a
 lmirante-brown/
URL;VALUE=URI:https://streamradar.soccer/ru/match/5560095/chaco-for-ever-vs
 -almirante-brown/
STATUS:CONFIRMED
END:VEVENT
END:VCALENDAR
