BEGIN:VCALENDAR
VERSION:2.0
PRODID:-//StreamRadar//Match Calendar//EN
CALSCALE:GREGORIAN
METHOD:PUBLISH
X-WR-CALNAME:Atlético Rafaela vs San Martín Tucumán
X-WR-TIMEZONE:America/New_York
BEGIN:VEVENT
UID:match-5560092@streamradar.soccer
SUMMARY:Atlético Rafaela vs San Martín Tucumán
DTSTAMP:20260421T121223Z
DTSTART;TZID=America/New_York:20260912T160000
DTEND;TZID=America/New_York:20260912T180000
LOCATION:Estadio Nuevo Monumental
DESCRIPTION:Где смотреть Атлетико Рафаэла – С
 н-Мартин Тукуман в турнире Аргентина - Пр
 имера Насьональ. Прямая трансляция и тел
 программа.\nhttps://streamradar.soccer/ru/match/5560092/atletico-
 rafaela-vs-san-martin-tucuman/
URL;VALUE=URI:https://streamradar.soccer/ru/match/5560092/atletico-rafaela-
 vs-san-martin-tucuman/
STATUS:CONFIRMED
END:VEVENT
END:VCALENDAR
