BEGIN:VCALENDAR
VERSION:2.0
PRODID:-//StreamRadar//Match Calendar//EN
CALSCALE:GREGORIAN
METHOD:PUBLISH
X-WR-CALNAME:Acassuso vs Club Atlético Mitre
X-WR-TIMEZONE:America/New_York
BEGIN:VEVENT
UID:match-5560090@streamradar.soccer
SUMMARY:Acassuso vs Club Atlético Mitre
DTSTAMP:20260421T110347Z
DTSTART;TZID=America/New_York:20260912T160000
DTEND;TZID=America/New_York:20260912T180000
LOCATION:La Quema Stadium
DESCRIPTION:Где смотреть Акассусо – Club Atlético Mit
 re в турнире Аргентина - Примера Насьональ
 . Прямая трансляция и телепрограмма.\nhttps:/
 /streamradar.soccer/ru/match/5560090/acassuso-vs-club-atletico-mitre/
URL;VALUE=URI:https://streamradar.soccer/ru/match/5560090/acassuso-vs-club-
 atletico-mitre/
STATUS:CONFIRMED
END:VEVENT
END:VCALENDAR
